BEGIN:VCALENDAR
VERSION:2.0
PRODID:-//50.87.248.47//NONSGML kigkonsult.se iCalcreator 2.20//
CALSCALE:GREGORIAN
METHOD:PUBLISH
X-FROM-URL:https://www.pickleballmemphis.com
X-WR-TIMEZONE:America/Chicago
BEGIN:VTIMEZONE
TZID:America/Chicago
X-LIC-LOCATION:America/Chicago
BEGIN:STANDARD
DTSTART:20251102T020000
TZOFFSETFROM:-0500
TZOFFSETTO:-0600
RDATE:20261101T020000
TZNAME:CST
END:STANDARD
BEGIN:DAYLIGHT
DTSTART:20260308T020000
TZOFFSETFROM:-0600
TZOFFSETTO:-0500
TZNAME:CDT
END:DAYLIGHT
END:VTIMEZONE
BEGIN:VEVENT
UID:ai1ec-7@www.pickleballmemphis.com
DTSTAMP:20260423T122914Z
CATEGORIES;LANGUAGE=en-US:Scheduled
CONTACT:Sharonda Vaughn\; 901-260-5782 \; svaughn@germantownbaptist.org\; h
 ttp://www.germantownbaptist.org/pickle-ball/
DESCRIPTION:
DTSTART;TZID=America/Chicago:20230425T090000
DTEND;TZID=America/Chicago:20230425T113000
EXDATE;TZID=America/Chicago:20180605T090000
EXDATE;TZID=America/Chicago:20180608T090000
GEO:+35.064907;-89.747535
LOCATION:9450 Poplar Ave\, Germantown\, TN 38139\, USA
RRULE:FREQ=WEEKLY;BYDAY=TU,TH,FR;WKST=MO
SEQUENCE:0
SUMMARY:Germantown Baptist Church
URL:https://www.pickleballmemphis.com/index.php/event/germantown-baptist-ch
 urch/
X-COST-TYPE:free
END:VEVENT
BEGIN:VEVENT
UID:ai1ec-80@www.pickleballmemphis.com
DTSTAMP:20260423T122914Z
CATEGORIES:
CONTACT:Gwen Lingerfelt\; 901.761.2997\; glingerfelt@cocws.org
DESCRIPTION:
DTSTART;TZID=America/Chicago:20230426T090000
DTEND;TZID=America/Chicago:20230426T120000
GEO:+35.102142;-89.901819
LOCATION:Church of Christ at White Station  @ 1106 Colonial Rd\, Memphis\, 
 TN 38117
RRULE:FREQ=WEEKLY;BYDAY=WE,FR;WKST=MO
SEQUENCE:0
SUMMARY:Church of Christ at White Station
URL:https://www.pickleballmemphis.com/index.php/event/church-of-christ-at-w
 hite-station/
X-COST-TYPE:free
END:VEVENT
BEGIN:VEVENT
UID:ai1ec-69@www.pickleballmemphis.com
DTSTAMP:20260423T122914Z
CATEGORIES:
CONTACT:Brian Maness\; 901-683-5286
DESCRIPTION:<ul>\n<li>2 indoor Courts</li>\n<li>Non-Members pay $5 guest fe
 e</li>\n<li>Varied skill levels</li>\n</ul>
DTSTART;TZID=America/Chicago:20230426T190000
DTEND;TZID=America/Chicago:20230426T210000
GEO:+35.16368;-89.798066
LOCATION:Cordova YMCA @ 7950 Club Center Cove\, Cordova\, TN 38016\, USA
RRULE:FREQ=WEEKLY;BYDAY=WE;WKST=MO
SEQUENCE:0
SUMMARY:Cordova YMCA – M/W Session 2
URL:https://www.pickleballmemphis.com/index.php/event/cordova-ymca-mw-sessi
 on-2-2/
X-COST-TYPE:free
END:VEVENT
BEGIN:VEVENT
UID:ai1ec-37@www.pickleballmemphis.com
DTSTAMP:20260423T122914Z
CATEGORIES;LANGUAGE=en-US:Scheduled
CONTACT:
DESCRIPTION:
DTSTART;TZID=America/Chicago:20230427T080000
DTEND;TZID=America/Chicago:20230427T100000
GEO:+35.11234;-89.868193
LOCATION:735 Ridge Lake Blvd\, Memphis\, TN 38120\, USA
RRULE:FREQ=WEEKLY;BYDAY=TH;WKST=MO
SEQUENCE:0
SUMMARY:First Evangelical Church
URL:https://www.pickleballmemphis.com/index.php/event/covenant-baptist-chur
 ch-4/
X-COST-TYPE:free
END:VEVENT
BEGIN:VEVENT
UID:ai1ec-29@www.pickleballmemphis.com
DTSTAMP:20260423T122914Z
CATEGORIES:
CONTACT:Barbara Fletcher \; 901-850-9622
DESCRIPTION:
DTSTART;TZID=America/Chicago:20230427T083000
DTEND;TZID=America/Chicago:20230427T103000
GEO:+35.043362;-89.700752
LOCATION:1185 Schilling Blvd E\, Collierville\, TN 38017\, USA
RRULE:FREQ=WEEKLY;BYDAY=TH;WKST=MO
SEQUENCE:0
SUMMARY:YMCA – Collierville
URL:https://www.pickleballmemphis.com/index.php/event/ymca-collierville/
X-COST-TYPE:free
X-COST:$5 NonMem
END:VEVENT
BEGIN:VEVENT
UID:ai1ec-71@www.pickleballmemphis.com
DTSTAMP:20260423T122914Z
CATEGORIES:
CONTACT:
DESCRIPTION:
DTSTART;TZID=America/Chicago:20230529T080000
DTEND;TZID=America/Chicago:20230529T120000
GEO:+35.085728;-89.81085
LOCATION:OLEC @ 2331 S Germantown Rd\, Germantown\, TN 38138\, USA
RRULE:FREQ=WEEKLY;INTERVAL=52;BYDAY=MO,WE,FR;WKST=MO
SEQUENCE:0
SUMMARY:Germantown United Methodist Church
URL:https://www.pickleballmemphis.com/index.php/event/germantown-united-met
 hodist-church/
X-COST-TYPE:free
END:VEVENT
BEGIN:VEVENT
UID:ai1ec-75@www.pickleballmemphis.com
DTSTAMP:20260423T122914Z
CATEGORIES:
CONTACT:
DESCRIPTION:
DTSTART;TZID=America/Chicago:20230530T090000
DTEND;TZID=America/Chicago:20230530T110000
GEO:+41.977752;-88.18782
LOCATION:Bartlett Community Center @ 700 S Bartlett Rd\, Bartlett\, IL 6010
 3\, USA
RRULE:FREQ=WEEKLY;INTERVAL=52;BYDAY=TU;WKST=MO
SEQUENCE:0
SUMMARY:Bartlett Community Center
URL:https://www.pickleballmemphis.com/index.php/event/bartlett-community-ce
 nter/
X-COST-TYPE:free
END:VEVENT
BEGIN:VEVENT
UID:ai1ec-77@www.pickleballmemphis.com
DTSTAMP:20260423T122914Z
CATEGORIES:
CONTACT:
DESCRIPTION:
DTSTART;TZID=America/Chicago:20230601T190000
DTEND;TZID=America/Chicago:20230601T220000
GEO:+41.977752;-88.18782
LOCATION:Bartlett Community Center @ 700 S Bartlett Rd\, Bartlett\, IL 6010
 3\, USA
RRULE:FREQ=WEEKLY;INTERVAL=52;BYDAY=TH;WKST=MO
SEQUENCE:0
SUMMARY:Bartlett Community Center
URL:https://www.pickleballmemphis.com/index.php/event/bartlett-community-ce
 nter-2/
X-COST-TYPE:free
END:VEVENT
BEGIN:VEVENT
UID:ai1ec-78@www.pickleballmemphis.com
DTSTAMP:20260423T122914Z
CATEGORIES:
CONTACT:
DESCRIPTION:
DTSTART;TZID=America/Chicago:20230602T183000
DTEND;TZID=America/Chicago:20230602T203000
GEO:+34.960787;-89.836833
LOCATION:Olive Branch YMCA @ 8555 Goodman Rd\, Olive Branch\, MS 38654\, US
 A
RRULE:FREQ=WEEKLY;INTERVAL=20;BYDAY=FR;WKST=MO
SEQUENCE:0
SUMMARY:Olive Branch YMCA
URL:https://www.pickleballmemphis.com/index.php/event/olive-branch-ymca-2/
X-COST-TYPE:free
END:VEVENT
END:VCALENDAR
